BEGIN:VCALENDAR
VERSION:2.0
PRODID:-// - ECPv6.15.20//NONSGML v1.0//EN
CALSCALE:GREGORIAN
METHOD:PUBLISH
X-ORIGINAL-URL:https://guyanesports.fr
X-WR-CALDESC:Évènements pour 
REFRESH-INTERVAL;VALUE=DURATION:PT1H
X-Robots-Tag:noindex
X-PUBLISHED-TTL:PT1H
BEGIN:VTIMEZONE
TZID:UTC
BEGIN:STANDARD
TZOFFSETFROM:+0000
TZOFFSETTO:+0000
TZNAME:UTC
DTSTART:20250101T000000
END:STANDARD
END:VTIMEZONE
BEGIN:VEVENT
DTSTART;TZID=UTC:20260307T080000
DTEND;TZID=UTC:20260308T170000
DTSTAMP:20260423T184409
CREATED:20260304T051225Z
LAST-MODIFIED:20260304T052321Z
UID:8582-1772870400-1772989200@guyanesports.fr
SUMMARY:Tournoi Women's Day Challenge
DESCRIPTION:Les joueuses du Montjoly Futsal Club s'envole vers Saint-Martin pour remettre leur titre en jeux après avoir gagnées l'édition 2025\, bon courage à elles. \nLe Village Éco-Sport Santé & Bien-Être ouvre ses portes le 7 mars 2026 pour un week-end 100% sport\, fun et talents féminins \nMais ce n’est pas tout… préparez-vous pour le Tournoi des Îles où s’affronteront les équipes féminines venues de :\n🇩🇲 Dominique | 🇬🇵 Guadeloupe | 🇬🇫 Guyane | 🇫🇷 Saint-Martin et d’autres \nAu programme :\n• Activités sportives & initiations pour petits et grands 🏃‍♀️🤸‍♂️\n• Conseils santé & bien-être\n• Exposants locaux : artisanat\, nutrition\, prévention\n• Animations et surprises pour toute la famille\n• Matchs du Tournoi des Îles avec remise de la Coupe en jeux \n📍 Où ? Stade de Marigot\n🕘 Quand ? 7 & 8 mars 2026\n🎟️ Entrée libre – venez nombreux ! \n👯‍♀️ En famille\, entre ami·e·s ou solo… venez soutenir les équipes\, découvrir le village et vivre un week-end inoubliable !
URL:https://guyanesports.fr/event/tournoi-womens-day-challenge/
LOCATION:Hall des Sports de Marigot\, Marigot\, 97150\, Collectivity of Saint Martin
CATEGORIES:Futsal
ATTACH;FMTTYPE=image/png:https://guyanesports.fr/wp-content/uploads/2026/03/Screenshot-2026-03-04-at-02-06-57-Instagram.png
ORGANIZER;CN="Ligue de Football de Saint-Martin":MAILTO:secretariat@saintmartinfootball.org
END:VEVENT
BEGIN:VEVENT
DTSTART;TZID=UTC:20260307T090000
DTEND;TZID=UTC:20260307T170000
DTSTAMP:20260423T184409
CREATED:20260217T035814Z
LAST-MODIFIED:20260218T203730Z
UID:6048-1772874000-1772902800@guyanesports.fr
SUMMARY:Tournoi FC26 - Tour Qualificatif
DESCRIPTION:La Ligue de Football de Guyane lance officiellement son Tournoi FC26 (anciennement FIFA) sur PlayStation 5 ! 4 ÉTAPES QUALIFICATIVES Saint-Laurent Saint-Georges Kourou Cayenne À chaque étape :Les 8 meilleurs joueurs seront qualifiés pour la Grande Finale Régionale  Les 8 meilleurs de chaque étape s’affronteront lors d’un tournoi final pour décrocher le titre régional le 25 Avril 2026. Le grand vainqueur représentera la Guyane à Clairefontaine pour affronter les champions des autres régions de France  Nouveauté cette saison :La FFF a invité la Guyane à envoyer une représentante féminine Mesdames\, c’est le moment de montrer votre talent ! Tournoi GRATUIT Ouvert à tous les licenciés de la Ligue Infos & inscriptions : 0694442179 Qui sera le champion ou la championne de Guyane ?
URL:https://guyanesports.fr/event/tournoi-fc26/
LOCATION:Saint-Laurent du Maroni\, Saint-Laurent du Maroni\, 97320\, French Guiana
CATEGORIES:E-sport,Football
ATTACH;FMTTYPE=image/png:https://guyanesports.fr/wp-content/uploads/2026/02/Screenshot-2026-02-17-at-00-27-01-Instagram-e1771446488963.png
END:VEVENT
BEGIN:VEVENT
DTSTART;TZID=UTC:20260307T093000
DTEND;TZID=UTC:20260307T180000
DTSTAMP:20260423T184409
CREATED:20260302T143710Z
LAST-MODIFIED:20260302T150403Z
UID:8126-1772875800-1772906400@guyanesports.fr
SUMMARY:Table ronde & Tournoi * Womens Day
DESCRIPTION:
URL:https://guyanesports.fr/event/table-ronde-tournoi-womens-day/
LOCATION:Stade Bois Chaudat\, Rue Justin CATAYÉE\, Kourou\, 97310\, French Guiana
CATEGORIES:Football
ATTACH;FMTTYPE=image/png:https://guyanesports.fr/wp-content/uploads/2026/03/logo-ascfk-764885.png
ORGANIZER;CN="ASC Footibel Kourou":MAILTO:ascfootibelkourou@gmail.com
END:VEVENT
BEGIN:VEVENT
DTSTART;TZID=UTC:20260308T083000
DTEND;TZID=UTC:20260308T113000
DTSTAMP:20260423T184409
CREATED:20260303T215928Z
LAST-MODIFIED:20260303T220311Z
UID:8549-1772958600-1772969400@guyanesports.fr
SUMMARY:Plateau Féminin U6 à U15
DESCRIPTION:
URL:https://guyanesports.fr/event/plateau-feminin-u6-a-u15/
LOCATION:Stade Daniel SINAÏ\, Chemin Mortium\, Matoury\, 97351\, French Guiana
CATEGORIES:Football
ATTACH;FMTTYPE=image/jpeg:https://guyanesports.fr/wp-content/uploads/2026/03/IMG_20260303_150819-e1772575232204.jpg
END:VEVENT
BEGIN:VEVENT
DTSTART;TZID=UTC:20260308T083000
DTEND;TZID=UTC:20260308T173000
DTSTAMP:20260423T184409
CREATED:20260302T055931Z
LAST-MODIFIED:20260303T185958Z
UID:8108-1772958600-1772991000@guyanesports.fr
SUMMARY:Challenge Cup Féminine-Futsal
DESCRIPTION:
URL:https://guyanesports.fr/event/challenge-cup-feminine/
LOCATION:Hall Paul Émile BIENVENUE\, Matoury\, 97351\, French Guiana
CATEGORIES:Football
ATTACH;FMTTYPE=image/png:https://guyanesports.fr/wp-content/uploads/2026/02/logo-nst51-futsal-554504.png
END:VEVENT
BEGIN:VEVENT
DTSTART;TZID=UTC:20260314T090000
DTEND;TZID=UTC:20260314T170000
DTSTAMP:20260423T184409
CREATED:20260314T040112Z
LAST-MODIFIED:20260218T203443Z
UID:6054-1773478800-1773507600@guyanesports.fr
SUMMARY:Tournoi FC26 - Tour Qualificatif
DESCRIPTION:La Ligue de Football de Guyane lance officiellement son Tournoi FC26 (anciennement FIFA) sur PlayStation 5 ! 4 ÉTAPES QUALIFICATIVES Saint-Laurent Saint-Georges Kourou Cayenne À chaque étape :Les 8 meilleurs joueurs seront qualifiés pour la Grande Finale Régionale  Les 8 meilleurs de chaque étape s’affronteront lors d’un tournoi final pour décrocher le titre régional le 25 Avril 2026. Le grand vainqueur représentera la Guyane à Clairefontaine pour affronter les champions des autres régions de France  Nouveauté cette saison :La FFF a invité la Guyane à envoyer une représentante féminine Mesdames\, c’est le moment de montrer votre talent ! Tournoi GRATUIT Ouvert à tous les licenciés de la Ligue Infos & inscriptions : 0694442179 Qui sera le champion ou la championne de Guyane ?
URL:https://guyanesports.fr/event/tournoi-fc26-2/
LOCATION:Saint-Georges\, Saint-Georges\, 97313\, French Guiana
CATEGORIES:E-sport,Football
ATTACH;FMTTYPE=image/png:https://guyanesports.fr/wp-content/uploads/2026/02/Screenshot-2026-02-17-at-00-27-01-Instagram-e1771446488963.png
END:VEVENT
BEGIN:VEVENT
DTSTART;TZID=UTC:20260328T090000
DTEND;TZID=UTC:20260328T170000
DTSTAMP:20260423T184409
CREATED:20260217T040342Z
LAST-MODIFIED:20260218T203412Z
UID:6057-1774688400-1774717200@guyanesports.fr
SUMMARY:Tournoi FC26 - Tour Qualificatif
DESCRIPTION:La Ligue de Football de Guyane lance officiellement son Tournoi FC26 (anciennement FIFA) sur PlayStation 5 ! 4 ÉTAPES QUALIFICATIVES Saint-Laurent Saint-Georges Kourou Cayenne À chaque étape :Les 8 meilleurs joueurs seront qualifiés pour la Grande Finale Régionale  Les 8 meilleurs de chaque étape s’affronteront lors d’un tournoi final pour décrocher le titre régional le 25 Avril 2026. Le grand vainqueur représentera la Guyane à Clairefontaine pour affronter les champions des autres régions de France  Nouveauté cette saison :La FFF a invité la Guyane à envoyer une représentante féminine Mesdames\, c’est le moment de montrer votre talent ! Tournoi GRATUIT Ouvert à tous les licenciés de la Ligue Infos & inscriptions : 0694442179 Qui sera le champion ou la championne de Guyane ?
URL:https://guyanesports.fr/event/6057/
LOCATION:Kourou\, Kourou\, 97310\, French Guiana
CATEGORIES:E-sport,Football
ATTACH;FMTTYPE=image/png:https://guyanesports.fr/wp-content/uploads/2026/02/Screenshot-2026-02-17-at-00-27-01-Instagram-e1771446488963.png
END:VEVENT
BEGIN:VEVENT
DTSTART;TZID=UTC:20260328T133000
DTEND;TZID=UTC:20260328T170000
DTSTAMP:20260423T184409
CREATED:20260224T172223Z
LAST-MODIFIED:20260224T172223Z
UID:6997-1774704600-1774717200@guyanesports.fr
SUMMARY:1er Open FootGolf Fun 2026
DESCRIPTION:
URL:https://guyanesports.fr/event/1er-open-footgolf-fun-2026/
LOCATION:Golf de l’Anse\, Centre de Loisirs du Centre Spatial\, Kourou\, 97310\, French Guiana
CATEGORIES:Football,Golf
ATTACH;FMTTYPE=image/jpeg:https://guyanesports.fr/wp-content/uploads/2026/02/475795175_608137848641060_2104945578937363005_n-e1770347643518.jpg
END:VEVENT
END:VCALENDAR