BEGIN:VCALENDAR
VERSION:2.0
PRODID:-// - ECPv6.15.20//NONSGML v1.0//EN
CALSCALE:GREGORIAN
METHOD:PUBLISH
X-ORIGINAL-URL:https://guyanesports.fr
X-WR-CALDESC:Évènements pour 
REFRESH-INTERVAL;VALUE=DURATION:PT1H
X-Robots-Tag:noindex
X-PUBLISHED-TTL:PT1H
BEGIN:VTIMEZONE
TZID:UTC
BEGIN:STANDARD
TZOFFSETFROM:+0000
TZOFFSETTO:+0000
TZNAME:UTC
DTSTART:20250101T000000
END:STANDARD
END:VTIMEZONE
BEGIN:VEVENT
DTSTART;TZID=UTC:20260425T080000
DTEND;TZID=UTC:20260425T130000
DTSTAMP:20260423T083458
CREATED:20260204T035307Z
LAST-MODIFIED:20260216T231844Z
UID:165-1777104000-1777122000@guyanesports.fr
SUMMARY:Mémorial des Défunts du V.C.K - Élite * Open * U19 * Access
DESCRIPTION:
URL:https://guyanesports.fr/event/memorial-des-defunts-du-v-c-k-elite-open-u19-access/
CATEGORIES:Cycliste
END:VEVENT
BEGIN:VEVENT
DTSTART;TZID=UTC:20260425T080000
DTEND;TZID=UTC:20260425T130000
DTSTAMP:20260423T083458
CREATED:20260204T035935Z
LAST-MODIFIED:20260402T183608Z
UID:168-1777104000-1777122000@guyanesports.fr
SUMMARY:2ème Challenge du S.C.M - Access
DESCRIPTION:
URL:https://guyanesports.fr/event/2eme-challenge-du-s-c-m-access/
CATEGORIES:Cycliste
END:VEVENT
BEGIN:VEVENT
DTSTART;TZID=UTC:20260425T080000
DTEND;TZID=UTC:20260426T170000
DTSTAMP:20260423T083458
CREATED:20260224T202946Z
LAST-MODIFIED:20260303T193628Z
UID:7023-1777104000-1777222800@guyanesports.fr
SUMMARY:l'Open de Guyane - Powerlifting
DESCRIPTION:
URL:https://guyanesports.fr/event/lopen-de-guyane-powerlifting/
LOCATION:Saint-Laurent du Maroni\, Saint-Laurent du Maroni\, 97320\, French Guiana
CATEGORIES:Autres
ATTACH;FMTTYPE=image/jpeg:https://guyanesports.fr/wp-content/uploads/2026/02/CosmaPowerlifting-e1770841116239.jpg
END:VEVENT
BEGIN:VEVENT
DTSTART;TZID=UTC:20260425T090000
DTEND;TZID=UTC:20260425T170000
DTSTAMP:20260423T083458
CREATED:20260217T041047Z
LAST-MODIFIED:20260218T202825Z
UID:6063-1777107600-1777136400@guyanesports.fr
SUMMARY:Tournoi FC26 - Grande Finale Régionale
DESCRIPTION:La Ligue de Football de Guyane lance officiellement son Tournoi FC26 (anciennement FIFA) sur PlayStation 5 ! 4 ÉTAPES QUALIFICATIVES Saint-Laurent Saint-Georges Kourou Cayenne À chaque étape :Les 8 meilleurs joueurs seront qualifiés pour la Grande Finale Régionale  Les 8 meilleurs de chaque étape s’affronteront lors d’un tournoi final pour décrocher le titre régional le 25 Avril 2026. Le grand vainqueur représentera la Guyane à Clairefontaine pour affronter les champions des autres régions de France  Nouveauté cette saison :La FFF a invité la Guyane à envoyer une représentante féminine Mesdames\, c’est le moment de montrer votre talent ! Tournoi GRATUIT Ouvert à tous les licenciés de la Ligue Infos & inscriptions : 0694442179 Qui sera le champion ou la championne de Guyane ?
URL:https://guyanesports.fr/event/tournoi-fc26-grande-finale-regionale/
LOCATION:Cayenne\, Boulevard de la République\, Cayenne\, 97300\, French Guiana
CATEGORIES:E-sport,Football
ATTACH;FMTTYPE=image/png:https://guyanesports.fr/wp-content/uploads/2026/02/Screenshot-2026-02-17-at-00-27-01-Instagram-e1771446488963.png
END:VEVENT
BEGIN:VEVENT
DTSTART;TZID=UTC:20260425T090000
DTEND;TZID=UTC:20260425T180000
DTSTAMP:20260423T083458
CREATED:20260302T210750Z
LAST-MODIFIED:20260302T210901Z
UID:8267-1777107600-1777140000@guyanesports.fr
SUMMARY:21ème TRAIL CARIACOU
DESCRIPTION:
URL:https://guyanesports.fr/event/21eme-trail-cariacou/
LOCATION:Camp Cariacou\, Kourou\, 97310\, French Guiana
CATEGORIES:Autres
ATTACH;FMTTYPE=image/png:https://guyanesports.fr/wp-content/uploads/2026/03/ja-stickers-202310-07-07-07.png
END:VEVENT
BEGIN:VEVENT
DTSTART;VALUE=DATE:20260426
DTEND;VALUE=DATE:20260427
DTSTAMP:20260423T083458
CREATED:20260217T005224Z
LAST-MODIFIED:20260217T005224Z
UID:5989-1777161600-1777247999@guyanesports.fr
SUMMARY:1er Tour CDG Triplettes Vétérans
DESCRIPTION:1er Tour du Championnat De Guyane de Triplettes Vétérans
URL:https://guyanesports.fr/event/1er-tour-cdg-triplettes-veterans/
LOCATION:Kourou\, Kourou\, 97310\, French Guiana
CATEGORIES:Pétanque
END:VEVENT
BEGIN:VEVENT
DTSTART;TZID=UTC:20260426T140000
DTEND;TZID=UTC:20260426T170000
DTSTAMP:20260423T083458
CREATED:20260204T040517Z
LAST-MODIFIED:20260304T182639Z
UID:172-1777212000-1777222800@guyanesports.fr
SUMMARY:LV Construction - * U15 * U17 * Féminine - CDSM
DESCRIPTION:
URL:https://guyanesports.fr/event/le-criterium-de-tonate-u13-u15-u17-feminine/
CATEGORIES:Cycliste
END:VEVENT
BEGIN:VEVENT
DTSTART;TZID=UTC:20260501T063000
DTEND;TZID=UTC:20260501T130000
DTSTAMP:20260423T083458
CREATED:20260218T220012Z
LAST-MODIFIED:20260219T154951Z
UID:6198-1777617000-1777640400@guyanesports.fr
SUMMARY:Semi-Marathon de Montsinéry-Tonnegrande
DESCRIPTION:Catégories : Cadet à Master
URL:https://guyanesports.fr/event/semi-marathon-de-montsinery-tonnegrande/
LOCATION:Montsinéry-Tonnégrande\, Montsinéry-Tonnégrande\, 97356\, French Guiana
CATEGORIES:Athlétisme
ATTACH;FMTTYPE=image/jpeg:https://guyanesports.fr/wp-content/uploads/2026/02/321999386_915721132769856_9050364392565901293_n-1-e1770679393916.jpg
END:VEVENT
BEGIN:VEVENT
DTSTART;TZID=UTC:20260501T080000
DTEND;TZID=UTC:20260503T170000
DTSTAMP:20260423T083458
CREATED:20260204T041431Z
LAST-MODIFIED:20260216T231818Z
UID:174-1777622400-1777827600@guyanesports.fr
SUMMARY:IV ème Grand Prix de l'Ouest - Élite * Open * U19 * Access - CRCG
DESCRIPTION:&
URL:https://guyanesports.fr/event/iv-eme-grand-prix-de-louest-elite-open-u19/
CATEGORIES:Cycliste
END:VEVENT
BEGIN:VEVENT
DTSTART;TZID=UTC:20260502T090000
DTEND;TZID=UTC:20260505T170000
DTSTAMP:20260423T083458
CREATED:20260302T033206Z
LAST-MODIFIED:20260302T033206Z
UID:8080-1777712400-1778000400@guyanesports.fr
SUMMARY:4# Meeting Qualificatif-Natation
DESCRIPTION:  \n 
URL:https://guyanesports.fr/event/4-meeting-qualificatif-natation/
LOCATION:Centre Aquatique de Cayenne\, Route de Baduel\, Cayenne\, 97300\, French Guiana
CATEGORIES:Natation
ATTACH;FMTTYPE=image/png:https://guyanesports.fr/wp-content/uploads/2026/02/164837978_1258761354518233_60616485081578071832_n-e1772404642743.png
END:VEVENT
BEGIN:VEVENT
DTSTART;TZID=UTC:20260502T150000
DTEND;TZID=UTC:20260502T180000
DTSTAMP:20260423T083458
CREATED:20260218T220209Z
LAST-MODIFIED:20260219T154845Z
UID:6201-1777734000-1777744800@guyanesports.fr
SUMMARY:Fast'Amazonie 3
DESCRIPTION:Toutes Catégories
URL:https://guyanesports.fr/event/fastamazonie-3/
LOCATION:Stade Edmar LAMA\, Rémire-Montjoly\, 97354\, French Guiana
CATEGORIES:Athlétisme
ATTACH;FMTTYPE=image/jpeg:https://guyanesports.fr/wp-content/uploads/2026/02/466414922_122101180886613061_6511580889848828509_n-1-e1770693374900.jpg
END:VEVENT
BEGIN:VEVENT
DTSTART;VALUE=DATE:20260503
DTEND;VALUE=DATE:20260504
DTSTAMP:20260423T083458
CREATED:20260217T005744Z
LAST-MODIFIED:20260217T005744Z
UID:5993-1777766400-1777852799@guyanesports.fr
SUMMARY:2ème Tour CDG de Triplettes Vétérans
DESCRIPTION:2ème Tour du Championnat De Guyane de Triplettes Vétérans
URL:https://guyanesports.fr/event/2eme-tour-cdg-de-triplettes-veterans/
LOCATION:Matoury\, Matoury\, 97351\, French Guiana
CATEGORIES:Pétanque
END:VEVENT
BEGIN:VEVENT
DTSTART;TZID=UTC:20260507T080000
DTEND;TZID=UTC:20260510T170000
DTSTAMP:20260423T083458
CREATED:20260204T042425Z
LAST-MODIFIED:20260216T231811Z
UID:181-1778140800-1778432400@guyanesports.fr
SUMMARY:Grand Prix des Bâtisseurs - Élite * Open * U19 * Access - VCG
DESCRIPTION:
URL:https://guyanesports.fr/event/grand-prix-des-batisseurs-elite-open-u19-access/
CATEGORIES:Cycliste
END:VEVENT
BEGIN:VEVENT
DTSTART;TZID=UTC:20260507T160000
DTEND;TZID=UTC:20260509T170000
DTSTAMP:20260423T083458
CREATED:20260309T151332Z
LAST-MODIFIED:20260309T151332Z
UID:8897-1778169600-1778346000@guyanesports.fr
SUMMARY:GUYMARGUA - Basketball Sénior
DESCRIPTION:
URL:https://guyanesports.fr/event/guymargua-basketball-senior/
LOCATION:Palais des Sports\, rue du trénelle\, Rivière-salée\, 97215\, Martinique
CATEGORIES:Basket-ball
ATTACH;FMTTYPE=image/png:https://guyanesports.fr/wp-content/uploads/2026/03/Screenshot-2026-03-08-at-03-20-31-Instagram-e1773068916933.png
ORGANIZER;CN="Ligue de basketball Martinique":MAILTO:event@lmbb.com
END:VEVENT
BEGIN:VEVENT
DTSTART;TZID=UTC:20260508T140000
DTEND;TZID=UTC:20260508T170000
DTSTAMP:20260423T083458
CREATED:20260204T042817Z
LAST-MODIFIED:20260216T231805Z
UID:183-1778248800-1778259600@guyanesports.fr
SUMMARY:Trophée Xavier BRESLER - U13 * U15 * U17 * Access Féminine - CDSM
DESCRIPTION:
URL:https://guyanesports.fr/event/trophee-xavier-bresler-u13-u15-u17-access-feminine/
CATEGORIES:Cycliste
END:VEVENT
BEGIN:VEVENT
DTSTART;TZID=UTC:20260509T150000
DTEND;TZID=UTC:20260509T180000
DTSTAMP:20260423T083458
CREATED:20260218T221826Z
LAST-MODIFIED:20260219T154826Z
UID:6204-1778338800-1778349600@guyanesports.fr
SUMMARY:Spéciale 1/2 fond
DESCRIPTION:Toutes Catégories
URL:https://guyanesports.fr/event/speciale-1-2-fond/
LOCATION:Stade Edmar LAMA\, Rémire-Montjoly\, 97354\, French Guiana
CATEGORIES:Athlétisme
ATTACH;FMTTYPE=image/jpeg:https://guyanesports.fr/wp-content/uploads/2026/02/321999386_915721132769856_9050364392565901293_n-1-e1770679393916.jpg
END:VEVENT
BEGIN:VEVENT
DTSTART;TZID=UTC:20260512T080000
DTEND;TZID=UTC:20260517T170000
DTSTAMP:20260423T083458
CREATED:20260301T225828Z
LAST-MODIFIED:20260301T225828Z
UID:8066-1778572800-1779037200@guyanesports.fr
SUMMARY:4# Spécial École De Natation- *U11*U13
DESCRIPTION:
URL:https://guyanesports.fr/event/4-special-ecole-de-natation-u11u13/
LOCATION:Centre Nautique Municipale\, Saint-Laurent du Maroni\, 97320\, French Guiana
CATEGORIES:Natation
ATTACH;FMTTYPE=image/jpeg:https://guyanesports.fr/wp-content/uploads/2026/02/3113-e1770750719549.jpeg
END:VEVENT
BEGIN:VEVENT
DTSTART;TZID=UTC:20260512T080000
DTEND;TZID=UTC:20260517T200000
DTSTAMP:20260423T083458
CREATED:20260217T021142Z
LAST-MODIFIED:20260217T032051Z
UID:5997-1778572800-1779048000@guyanesports.fr
SUMMARY:Grand Prix de la Caraïbes - Pétanque
DESCRIPTION:Grand Prix de la Caraïbes à Saint-Pierre en Martinique
URL:https://guyanesports.fr/event/grand-prix-de-la-caraibes/
LOCATION:Saint-Pierre\, Saint-Pierre\, 97250\, Martinique
CATEGORIES:Pétanque
END:VEVENT
BEGIN:VEVENT
DTSTART;TZID=UTC:20260514T080000
DTEND;TZID=UTC:20260514T130000
DTSTAMP:20260423T083458
CREATED:20260204T043037Z
LAST-MODIFIED:20260216T231745Z
UID:185-1778745600-1778763600@guyanesports.fr
SUMMARY:Mémorial Frantzo - Élite * Open * U19 * Access - CDSM
DESCRIPTION:
URL:https://guyanesports.fr/event/memorial-frantzo-elite-open-u19-access/
CATEGORIES:Cycliste
END:VEVENT
BEGIN:VEVENT
DTSTART;TZID=UTC:20260514T140000
DTEND;TZID=UTC:20260514T170000
DTSTAMP:20260423T083458
CREATED:20260204T043330Z
LAST-MODIFIED:20260216T231723Z
UID:187-1778767200-1778778000@guyanesports.fr
SUMMARY:Grand Prix Humanera Assurance - U13 * U15 * U17 * Access Féminine - CDSM
DESCRIPTION:
URL:https://guyanesports.fr/event/grand-prix-humanera-assurance-u13-u15-u17-access-feminine/
CATEGORIES:Cycliste
END:VEVENT
BEGIN:VEVENT
DTSTART;TZID=UTC:20260516T090000
DTEND;TZID=UTC:20260516T170000
DTSTAMP:20260423T083458
CREATED:20260302T211913Z
LAST-MODIFIED:20260302T211913Z
UID:8273-1778922000-1778950800@guyanesports.fr
SUMMARY:TRAIL BONAVENTURE
DESCRIPTION:
URL:https://guyanesports.fr/event/trail-bonaventure/
LOCATION:Camp Bonaventure\, Roura\, 97352\, French Guiana
CATEGORIES:Autres
ATTACH;FMTTYPE=image/png:https://guyanesports.fr/wp-content/uploads/2026/03/bonaventure-13.png
END:VEVENT
BEGIN:VEVENT
DTSTART;TZID=UTC:20260516T140000
DTEND;TZID=UTC:20260516T170000
DTSTAMP:20260423T083458
CREATED:20260204T043600Z
LAST-MODIFIED:20260216T231652Z
UID:189-1778940000-1778950800@guyanesports.fr
SUMMARY:Le Trophée S.G.D.E du Jeune Espoir - U15 * U17 * Access Féminine - ECG
DESCRIPTION:
URL:https://guyanesports.fr/event/le-trophee-s-g-d-e-du-jeune-espoir-u15-u17-access-feminine/
CATEGORIES:Cycliste
END:VEVENT
BEGIN:VEVENT
DTSTART;TZID=UTC:20260517T080000
DTEND;TZID=UTC:20260517T130000
DTSTAMP:20260423T083458
CREATED:20260204T043849Z
LAST-MODIFIED:20260216T231626Z
UID:191-1779004800-1779022800@guyanesports.fr
SUMMARY:XVIII ème Grand Prix Boulangerie Albert - Élite * Open * U19 * Access - ECG
DESCRIPTION:
URL:https://guyanesports.fr/event/xviii-eme-grand-prix-boulangerie-albert-elite-open-u19-access/
CATEGORIES:Cycliste
END:VEVENT
BEGIN:VEVENT
DTSTART;TZID=UTC:20260523T080000
DTEND;TZID=UTC:20260524T170000
DTSTAMP:20260423T083458
CREATED:20260217T021633Z
LAST-MODIFIED:20260218T222534Z
UID:6002-1779523200-1779642000@guyanesports.fr
SUMMARY:Grand Prix Baie-Mahault *Pétanque
DESCRIPTION:Grand Prix de la ville de Baie-Mahault
URL:https://guyanesports.fr/event/grand-prix-baie-mahault/
LOCATION:Baie-Mahault\, Baie-Mahault\, 97103\, Guadeloupe
CATEGORIES:Pétanque
END:VEVENT
BEGIN:VEVENT
DTSTART;TZID=UTC:20260523T080000
DTEND;TZID=UTC:20260525T170000
DTSTAMP:20260423T083458
CREATED:20260204T044453Z
LAST-MODIFIED:20260216T231600Z
UID:193-1779523200-1779728400@guyanesports.fr
SUMMARY:VIème Grand Prix des Savanes - Élite * Open * U19 * Access - CRCG
DESCRIPTION:&
URL:https://guyanesports.fr/event/vieme-grand-prix-des-savanes-elite-open-u19-access/
CATEGORIES:Cycliste
END:VEVENT
BEGIN:VEVENT
DTSTART;TZID=UTC:20260523T100000
DTEND;TZID=UTC:20260523T180000
DTSTAMP:20260423T083458
CREATED:20260218T222803Z
LAST-MODIFIED:20260219T154759Z
UID:6211-1779530400-1779559200@guyanesports.fr
SUMMARY:Meeting de l'Ouest
DESCRIPTION:Toutes catégories
URL:https://guyanesports.fr/event/meeting-de-louest/
LOCATION:Stade René LONG\, Rue du Lieutenant Col Tourtet\, Saint-Laurent du Maroni\, 97320\, French Guiana
CATEGORIES:Athlétisme
ATTACH;FMTTYPE=image/jpeg:https://guyanesports.fr/wp-content/uploads/2026/02/480625078_984836730409775_8810425923152336344_n-1-e1770693981765.jpg
ORGANIZER;CN="Le Puma Athl%C3%A9tic Club du Maroni":MAILTO:lepumaathleticclubmaroni@gmail.com
END:VEVENT
BEGIN:VEVENT
DTSTART;TZID=UTC:20260523T100000
DTEND;TZID=UTC:20260524T190000
DTSTAMP:20260423T083458
CREATED:20260302T152335Z
LAST-MODIFIED:20260302T152335Z
UID:8154-1779530400-1779649200@guyanesports.fr
SUMMARY:Championnat par Équipes Antilles Guyane
DESCRIPTION:
URL:https://guyanesports.fr/event/championnat-par-equipes-antilles-guyane/
LOCATION:Hall Georges DONZENAC\, Cayenne\, 97300\, French Guiana
CATEGORIES:Raquette
ATTACH;FMTTYPE=image/png:https://guyanesports.fr/wp-content/uploads/2026/02/Fichier-e1770757487537.png
ORGANIZER;CN="ligue de Tennis de Table de Guyane":MAILTO:lttg@wanadoo.fr
END:VEVENT
BEGIN:VEVENT
DTSTART;TZID=UTC:20260524T150000
DTEND;TZID=UTC:20260524T180000
DTSTAMP:20260423T083458
CREATED:20260218T223055Z
LAST-MODIFIED:20260219T154938Z
UID:6213-1779634800-1779645600@guyanesports.fr
SUMMARY:Semi-Marathon de Macouria
DESCRIPTION:&Catégories : Cadet à Master
URL:https://guyanesports.fr/event/semi-marathon-de-macouria/
LOCATION:Macouria\, Macouria\, 97355\, French Guiana
CATEGORIES:Athlétisme
END:VEVENT
BEGIN:VEVENT
DTSTART;TZID=UTC:20260530T080000
DTEND;TZID=UTC:20260531T170000
DTSTAMP:20260423T083458
CREATED:20260204T044729Z
LAST-MODIFIED:20260216T231528Z
UID:197-1780128000-1780246800@guyanesports.fr
SUMMARY:IIème Grand Prix Repsol - Élite * Open * - ECG
DESCRIPTION:
URL:https://guyanesports.fr/event/iieme-grand-prix-repsol-elite-open/
CATEGORIES:Cycliste
END:VEVENT
BEGIN:VEVENT
DTSTART;TZID=UTC:20260530T133000
DTEND;TZID=UTC:20260530T180000
DTSTAMP:20260423T083458
CREATED:20260218T223320Z
LAST-MODIFIED:20260219T155156Z
UID:6215-1780147800-1780164000@guyanesports.fr
SUMMARY:Mémorial José Paco Miranda Garcia
DESCRIPTION:Catégories : Benjamin à Master
URL:https://guyanesports.fr/event/memorial-jose-paco-miranda-garcia/
LOCATION:Stade Bois Chaudat\, Rue Justin CATAYÉE\, Kourou\, 97310\, French Guiana
CATEGORIES:Athlétisme
ATTACH;FMTTYPE=image/jpeg:https://guyanesports.fr/wp-content/uploads/2026/02/TAC-1.jpeg
END:VEVENT
END:VCALENDAR