BEGIN:VCALENDAR
VERSION:2.0
PRODID:-// - ECPv6.15.20//NONSGML v1.0//EN
CALSCALE:GREGORIAN
METHOD:PUBLISH
X-ORIGINAL-URL:https://guyanesports.fr
X-WR-CALDESC:Évènements pour 
REFRESH-INTERVAL;VALUE=DURATION:PT1H
X-Robots-Tag:noindex
X-PUBLISHED-TTL:PT1H
BEGIN:VTIMEZONE
TZID:UTC
BEGIN:STANDARD
TZOFFSETFROM:+0000
TZOFFSETTO:+0000
TZNAME:UTC
DTSTART:20250101T000000
END:STANDARD
END:VTIMEZONE
BEGIN:VEVENT
DTSTART;TZID=UTC:20260425T080000
DTEND;TZID=UTC:20260425T130000
DTSTAMP:20260425T120740
CREATED:20260204T035935Z
LAST-MODIFIED:20260424T144815Z
UID:168-1777104000-1777122000@guyanesports.fr
SUMMARY:3ème Challenge du S.C.M - Access
DESCRIPTION:
URL:https://guyanesports.fr/event/3eme-challenge-du-s-c-m-access/
LOCATION:Macouria\, Macouria\, 97355\, French Guiana
CATEGORIES:Cycliste
ATTACH;FMTTYPE=image/jpeg:https://guyanesports.fr/wp-content/uploads/2026/02/IMG-20260421-WA0001.jpg
END:VEVENT
BEGIN:VEVENT
DTSTART;TZID=UTC:20260425T080000
DTEND;TZID=UTC:20260426T170000
DTSTAMP:20260425T120740
CREATED:20260224T202946Z
LAST-MODIFIED:20260303T193628Z
UID:7023-1777104000-1777222800@guyanesports.fr
SUMMARY:l'Open de Guyane - Powerlifting
DESCRIPTION:
URL:https://guyanesports.fr/event/lopen-de-guyane-powerlifting/
LOCATION:Saint-Laurent du Maroni\, Saint-Laurent du Maroni\, 97320\, French Guiana
CATEGORIES:Autres
ATTACH;FMTTYPE=image/jpeg:https://guyanesports.fr/wp-content/uploads/2026/02/CosmaPowerlifting-e1770841116239.jpg
END:VEVENT
BEGIN:VEVENT
DTSTART;TZID=UTC:20260425T090000
DTEND;TZID=UTC:20260425T170000
DTSTAMP:20260425T120740
CREATED:20260217T041047Z
LAST-MODIFIED:20260218T202825Z
UID:6063-1777107600-1777136400@guyanesports.fr
SUMMARY:Tournoi FC26 - Grande Finale Régionale
DESCRIPTION:La Ligue de Football de Guyane lance officiellement son Tournoi FC26 (anciennement FIFA) sur PlayStation 5 ! 4 ÉTAPES QUALIFICATIVES Saint-Laurent Saint-Georges Kourou Cayenne À chaque étape :Les 8 meilleurs joueurs seront qualifiés pour la Grande Finale Régionale  Les 8 meilleurs de chaque étape s’affronteront lors d’un tournoi final pour décrocher le titre régional le 25 Avril 2026. Le grand vainqueur représentera la Guyane à Clairefontaine pour affronter les champions des autres régions de France  Nouveauté cette saison :La FFF a invité la Guyane à envoyer une représentante féminine Mesdames\, c’est le moment de montrer votre talent ! Tournoi GRATUIT Ouvert à tous les licenciés de la Ligue Infos & inscriptions : 0694442179 Qui sera le champion ou la championne de Guyane ?
URL:https://guyanesports.fr/event/tournoi-fc26-grande-finale-regionale/
LOCATION:Cayenne\, Boulevard de la République\, Cayenne\, 97300\, French Guiana
CATEGORIES:E-sport,Football
ATTACH;FMTTYPE=image/png:https://guyanesports.fr/wp-content/uploads/2026/02/Screenshot-2026-02-17-at-00-27-01-Instagram-e1771446488963.png
END:VEVENT
BEGIN:VEVENT
DTSTART;TZID=UTC:20260425T090000
DTEND;TZID=UTC:20260425T180000
DTSTAMP:20260425T120740
CREATED:20260302T210750Z
LAST-MODIFIED:20260302T210901Z
UID:8267-1777107600-1777140000@guyanesports.fr
SUMMARY:21ème TRAIL CARIACOU
DESCRIPTION:
URL:https://guyanesports.fr/event/21eme-trail-cariacou/
LOCATION:Camp Cariacou\, Kourou\, 97310\, French Guiana
CATEGORIES:Autres
ATTACH;FMTTYPE=image/png:https://guyanesports.fr/wp-content/uploads/2026/03/ja-stickers-202310-07-07-07.png
END:VEVENT
END:VCALENDAR